BEGIN:VCALENDAR
VERSION:2.0
PRODID:spatie/icalendar-generator
NAME:Wimberley Band Boosters Calendar
X-WR-CALNAME:Wimberley Band Boosters Calendar
REFRESH-INTERVAL;VALUE=DURATION:PT30M
X-PUBLISHED-TTL:PT30M
BEGIN:VTIMEZONE
TZID:America/Chicago
BEGIN:STANDARD
DTSTART:20251102T010000
TZOFFSETFROM:-0500
TZOFFSETTO:-0600
END:STANDARD
BEGIN:DAYLIGHT
DTSTART:20260308T010000
TZOFFSETFROM:-0600
TZOFFSETTO:-0500
END:DAYLIGHT
BEGIN:STANDARD
DTSTART:20261101T010000
TZOFFSETFROM:-0500
TZOFFSETTO:-0600
END:STANDARD
END:VTIMEZONE
BEGIN:VTIMEZONE
TZID:UTC
BEGIN:STANDARD
DTSTART:20250727T151737
TZOFFSETFROM:+0000
TZOFFSETTO:+0000
END:STANDARD
END:VTIMEZONE
BEGIN:VEVENT
UID:event-606971@wimberleyband.boosterhub.com
DTSTAMP:20260423T151737Z
SUMMARY:WHS Spring Concery
DESCRIPTION:
LOCATION:WHS
DTSTART;TZID=America/Chicago:20260507T063000
DTEND;TZID=America/Chicago:20260507T213000
END:VEVENT
BEGIN:VEVENT
UID:event-606973@wimberleyband.boosterhub.com
DTSTAMP:20260423T151737Z
SUMMARY:WHS Night of Percussion
DESCRIPTION:
LOCATION:WHS
DTSTART;TZID=America/Chicago:20260511T063000
DTEND;TZID=America/Chicago:20260511T193000
END:VEVENT
END:VCALENDAR